BEGIN:VCALENDAR
VERSION:2.0
PRODID:-//Corridas de Rua - RS - ECPv4.5.7//NONSGML v1.0//EN
CALSCALE:GREGORIAN
METHOD:PUBLISH
X-WR-CALNAME:Corridas de Rua - RS
X-ORIGINAL-URL:https://corridasderuars.com.br
X-WR-CALDESC:Events for Corridas de Rua - RS
BEGIN:VEVENT
DTSTART;TZID=UTC+0:20170820T090000
DTEND;TZID=UTC+0:20170820T090000
DTSTAMP:20260420T051642
CREATED:20170710T184143Z
LAST-MODIFIED:20170725T115147Z
UID:2367-1503219600-1503219600@corridasderuars.com.br
SUMMARY:Circuito SESC/Caixa de Corridas
DESCRIPTION:
URL:https://corridasderuars.com.br/evento/circuito-sesccaixa-de-corridas/
CATEGORIES:10km,3km,5km
ATTACH;FMTTYPE=image/jpeg:https://corridasderuars.com.br/wp-content/uploads/2017/07/bg15-1.jpg
END:VEVENT
END:VCALENDAR