BEGIN:VCALENDAR
VERSION:2.0
PRODID:-//Corridas de Rua - RS - ECPv4.5.7//NONSGML v1.0//EN
CALSCALE:GREGORIAN
METHOD:PUBLISH
X-WR-CALNAME:Corridas de Rua - RS
X-ORIGINAL-URL:https://corridasderuars.com.br
X-WR-CALDESC:Events for Corridas de Rua - RS
BEGIN:VEVENT
DTSTART;TZID=UTC+0:20171203T080000
DTEND;TZID=UTC+0:20171203T080000
DTSTAMP:20260420T040805
CREATED:20170711T213737Z
LAST-MODIFIED:20170725T114954Z
UID:2483-1512288000-1512288000@corridasderuars.com.br
SUMMARY:Circuito SESC/Caixa de Corridas - Etapa Final
DESCRIPTION:
URL:https://corridasderuars.com.br/evento/circuito-sesccaixa-de-corridas-etapa-final/
CATEGORIES:10km,3km,5km
ATTACH;FMTTYPE=image/jpeg:https://corridasderuars.com.br/wp-content/uploads/2017/07/bgPraia.jpg
END:VEVENT
END:VCALENDAR