BEGIN:VCALENDAR
VERSION:2.0
PRODID:-//Corridas de Rua - RS - ECPv4.5.7//NONSGML v1.0//EN
CALSCALE:GREGORIAN
METHOD:PUBLISH
X-WR-CALNAME:Corridas de Rua - RS
X-ORIGINAL-URL:https://corridasderuars.com.br
X-WR-CALDESC:Events for Corridas de Rua - RS
BEGIN:VEVENT
DTSTART;TZID=UTC+0:20180318T083000
DTEND;TZID=UTC+0:20180318T083000
DTSTAMP:20260420T021732
CREATED:20180116T172511Z
LAST-MODIFIED:20180205T173928Z
UID:3449-1521361800-1521361800@corridasderuars.com.br
SUMMARY:Circuito Sesc de Corridas - 2ª Etapa
DESCRIPTION:
URL:https://corridasderuars.com.br/evento/circuito-sesccaixa-de-corridas-2a-etapa/
CATEGORIES:10km,3km,5km
ATTACH;FMTTYPE=image/jpeg:https://corridasderuars.com.br/wp-content/uploads/2017/07/bg5-1.jpg
END:VEVENT
END:VCALENDAR