BEGIN:VCALENDAR
VERSION:2.0
PRODID:-//Corridas de Rua - RS - ECPv4.5.7//NONSGML v1.0//EN
CALSCALE:GREGORIAN
METHOD:PUBLISH
X-WR-CALNAME:Corridas de Rua - RS
X-ORIGINAL-URL:https://corridasderuars.com.br
X-WR-CALDESC:Events for Corridas de Rua - RS
BEGIN:VEVENT
DTSTART;TZID=UTC+0:20190428T090000
DTEND;TZID=UTC+0:20190428T090000
DTSTAMP:20260419T231558
CREATED:20190121T141632Z
LAST-MODIFIED:20190121T141632Z
UID:4731-1556442000-1556442000@corridasderuars.com.br
SUMMARY:Circuito Sesc de Corridas - 6ª Etapa
DESCRIPTION:
URL:https://corridasderuars.com.br/evento/circuito-sesc-de-corridas-6a-etapa/
CATEGORIES:10km,3km,5km
ATTACH;FMTTYPE=image/jpeg:https://corridasderuars.com.br/wp-content/uploads/2017/12/bg58.jpg
END:VEVENT
END:VCALENDAR