BEGIN:VCALENDAR
VERSION:2.0
PRODID:-//Corridas de Rua - RS - ECPv4.5.7//NONSGML v1.0//EN
CALSCALE:GREGORIAN
METHOD:PUBLISH
X-WR-CALNAME:Corridas de Rua - RS
X-ORIGINAL-URL:https://corridasderuars.com.br
X-WR-CALDESC:Events for Corridas de Rua - RS
BEGIN:VEVENT
DTSTART;TZID=UTC+0:20190714T090000
DTEND;TZID=UTC+0:20190714T090000
DTSTAMP:20260420T100957
CREATED:20190121T142333Z
LAST-MODIFIED:20190121T142333Z
UID:4743-1563094800-1563094800@corridasderuars.com.br
SUMMARY:Circuito Sesc de Corridas - 12ª Etapa
DESCRIPTION:
URL:https://corridasderuars.com.br/evento/circuito-sesc-de-corridas-12a-etapa/
CATEGORIES:10km,3km,5km
ATTACH;FMTTYPE=image/jpeg:https://corridasderuars.com.br/wp-content/uploads/2017/12/bg53.jpg
END:VEVENT
END:VCALENDAR