BEGIN:VCALENDAR
VERSION:2.0
PRODID:-//Corridas de Rua - RS - ECPv4.5.7//NONSGML v1.0//EN
CALSCALE:GREGORIAN
METHOD:PUBLISH
X-WR-CALNAME:Corridas de Rua - RS
X-ORIGINAL-URL:https://corridasderuars.com.br
X-WR-CALDESC:Events for Corridas de Rua - RS
BEGIN:VEVENT
DTSTART;TZID=UTC+0:20180225T083000
DTEND;TZID=UTC+0:20180225T083000
DTSTAMP:20260420T035300
CREATED:20180215T173904Z
LAST-MODIFIED:20180215T173904Z
UID:3581-1519547400-1519547400@corridasderuars.com.br
SUMMARY:Circuito Regional de Corridas de Rua - Etapa Panambi
DESCRIPTION:
URL:https://corridasderuars.com.br/evento/circuito-regional-de-corridas-de-rua-etapa-panambi/
CATEGORIES:5km
ATTACH;FMTTYPE=image/jpeg:https://corridasderuars.com.br/wp-content/uploads/2017/12/bg54.jpg
END:VEVENT
END:VCALENDAR