BEGIN:VCALENDAR
VERSION:2.0
PRODID:-//Corridas de Rua - RS - ECPv4.5.7//NONSGML v1.0//EN
CALSCALE:GREGORIAN
METHOD:PUBLISH
X-WR-CALNAME:Corridas de Rua - RS
X-ORIGINAL-URL:https://corridasderuars.com.br
X-WR-CALDESC:Events for Corridas de Rua - RS
BEGIN:VEVENT
DTSTART;TZID=UTC+0:20171119T080000
DTEND;TZID=UTC+0:20171119T080000
DTSTAMP:20260420T084313
CREATED:20170711T212153Z
LAST-MODIFIED:20170925T124146Z
UID:2472-1511078400-1511078400@corridasderuars.com.br
SUMMARY:Circuito Poa Day Run - 3ª Etapa
DESCRIPTION:
URL:https://corridasderuars.com.br/evento/circuito-poa-day-run-3a-etapa/
CATEGORIES:10km,21km,3km,5km
ATTACH;FMTTYPE=image/jpeg:https://corridasderuars.com.br/wp-content/uploads/2017/07/bg8-1.jpg
END:VEVENT
END:VCALENDAR