BEGIN:VCALENDAR
VERSION:2.0
PRODID:-//Corridas de Rua - RS - ECPv4.5.7//NONSGML v1.0//EN
CALSCALE:GREGORIAN
METHOD:PUBLISH
X-WR-CALNAME:Corridas de Rua - RS
X-ORIGINAL-URL:https://corridasderuars.com.br
X-WR-CALDESC:Events for Corridas de Rua - RS
BEGIN:VEVENT
DTSTART;TZID=UTC+0:20211017T080000
DTEND;TZID=UTC+0:20211017T080000
DTSTAMP:20260421T084049
CREATED:20210806T154257Z
LAST-MODIFIED:20210806T154257Z
UID:7282-1634457600-1634457600@corridasderuars.com.br
SUMMARY:Circuito Poa Day Run - 1ª Etapa
DESCRIPTION:
URL:https://corridasderuars.com.br/evento/circuito-poa-day-run-1a-etapa/
CATEGORIES:16km,3km,5km,8km
ATTACH;FMTTYPE=image/jpeg:https://corridasderuars.com.br/wp-content/uploads/2017/07/bg14-1.jpg
END:VEVENT
END:VCALENDAR