BEGIN:VCALENDAR
VERSION:2.0
PRODID:-//Corridas de Rua - RS - ECPv4.5.7//NONSGML v1.0//EN
CALSCALE:GREGORIAN
METHOD:PUBLISH
X-WR-CALNAME:Corridas de Rua - RS
X-ORIGINAL-URL:https://corridasderuars.com.br
X-WR-CALDESC:Events for Corridas de Rua - RS
BEGIN:VEVENT
DTSTART;TZID=UTC+0:20190525T180000
DTEND;TZID=UTC+0:20190525T180000
DTSTAMP:20260420T084350
CREATED:20190327T134909Z
LAST-MODIFIED:20190327T135006Z
UID:4986-1558807200-1558807200@corridasderuars.com.br
SUMMARY:Circuito Night Run UCRSM 2019 - 2ª Etapa
DESCRIPTION:
URL:https://corridasderuars.com.br/evento/circuito-night-run-ucrsm-2019-2a-etapa/
CATEGORIES:2km,5.2km
ATTACH;FMTTYPE=image/jpeg:https://corridasderuars.com.br/wp-content/uploads/2017/12/bg56.jpg
END:VEVENT
END:VCALENDAR