BEGIN:VCALENDAR
VERSION:2.0
PRODID:-//Corridas de Rua - RS - ECPv4.5.7//NONSGML v1.0//EN
CALSCALE:GREGORIAN
METHOD:PUBLISH
X-WR-CALNAME:Corridas de Rua - RS
X-ORIGINAL-URL:https://corridasderuars.com.br
X-WR-CALDESC:Events for Corridas de Rua - RS
BEGIN:VEVENT
DTSTART;TZID=UTC+0:20180527T090000
DTEND;TZID=UTC+0:20180527T090000
DTSTAMP:20260419T231820
CREATED:20180515T121129Z
LAST-MODIFIED:20180515T121129Z
UID:3878-1527411600-1527411600@corridasderuars.com.br
SUMMARY:Circuito Municipal de Corrida de Rua 2018 - 1ª Etapa
DESCRIPTION:
URL:https://corridasderuars.com.br/evento/circuito-municipal-de-corrida-de-rua-2018-1a-etapa/
CATEGORIES:5km
ATTACH;FMTTYPE=image/jpeg:https://corridasderuars.com.br/wp-content/uploads/2017/07/bg3-1.jpg
END:VEVENT
END:VCALENDAR