BEGIN:VCALENDAR
VERSION:2.0
PRODID:-//Corridas de Rua - RS - ECPv4.5.7//NONSGML v1.0//EN
CALSCALE:GREGORIAN
METHOD:PUBLISH
X-WR-CALNAME:Corridas de Rua - RS
X-ORIGINAL-URL:https://corridasderuars.com.br
X-WR-CALDESC:Events for Corridas de Rua - RS
BEGIN:VEVENT
DTSTART;TZID=UTC+0:20220220T073000
DTEND;TZID=UTC+0:20220220T073000
DTSTAMP:20260421T084007
CREATED:20211214T185453Z
LAST-MODIFIED:20211214T185453Z
UID:7636-1645342200-1645342200@corridasderuars.com.br
SUMMARY:Circuito Mais Pelotas - 3ª Etapa
DESCRIPTION:
URL:https://corridasderuars.com.br/evento/circuito-mais-pelotas-3a-etapa/
CATEGORIES:18km,5km
ATTACH;FMTTYPE=image/jpeg:https://corridasderuars.com.br/wp-content/uploads/2017/12/bg54.jpg
END:VEVENT
END:VCALENDAR