BEGIN:VCALENDAR
VERSION:2.0
PRODID:-//Corridas de Rua - RS - ECPv4.5.7//NONSGML v1.0//EN
CALSCALE:GREGORIAN
METHOD:PUBLISH
X-WR-CALNAME:Corridas de Rua - RS
X-ORIGINAL-URL:https://corridasderuars.com.br
X-WR-CALDESC:Events for Corridas de Rua - RS
BEGIN:VEVENT
DTSTART;TZID=UTC+0:20170917T090000
DTEND;TZID=UTC+0:20170917T090000
DTSTAMP:20260420T072603
CREATED:20170908T141453Z
LAST-MODIFIED:20170908T141526Z
UID:2787-1505638800-1505638800@corridasderuars.com.br
SUMMARY:CIRCUITO ECO-RUN/RS - Etapa Parque da Pedra do Segredo
DESCRIPTION:
URL:https://corridasderuars.com.br/evento/circuito-eco-runrs-etapa-parque-da-pedra-do-segredo/
CATEGORIES:10km,5km
ATTACH;FMTTYPE=image/jpeg:https://corridasderuars.com.br/wp-content/uploads/2017/07/bgCountry3.jpg
END:VEVENT
END:VCALENDAR