BEGIN:VCALENDAR
VERSION:2.0
PRODID:-//Corridas de Rua - RS - ECPv4.5.7//NONSGML v1.0//EN
CALSCALE:GREGORIAN
METHOD:PUBLISH
X-WR-CALNAME:Corridas de Rua - RS
X-ORIGINAL-URL:https://corridasderuars.com.br
X-WR-CALDESC:Events for Corridas de Rua - RS
BEGIN:VEVENT
DTSTART;TZID=UTC+0:20260503T080000
DTEND;TZID=UTC+0:20260503T080000
DTSTAMP:20260422T165237
CREATED:20260422T123823Z
LAST-MODIFIED:20260422T123823Z
UID:14288-1777795200-1777795200@corridasderuars.com.br
SUMMARY:Circuito dos Vales - Etapa da Fenachim
DESCRIPTION:
URL:https://corridasderuars.com.br/evento/circuito-dos-vales-etapa-da-fenachim/
CATEGORIES:10km,3km,5km
ATTACH;FMTTYPE=image/jpeg:https://corridasderuars.com.br/wp-content/uploads/2019/08/bg203.jpg
END:VEVENT
END:VCALENDAR