BEGIN:VCALENDAR
VERSION:2.0
PRODID:-//Corridas de Rua - RS - ECPv4.5.7//NONSGML v1.0//EN
CALSCALE:GREGORIAN
METHOD:PUBLISH
X-WR-CALNAME:Corridas de Rua - RS
X-ORIGINAL-URL:https://corridasderuars.com.br
X-WR-CALDESC:Events for Corridas de Rua - RS
BEGIN:VEVENT
DTSTART;TZID=UTC+0:20180225T090000
DTEND;TZID=UTC+0:20180225T090000
DTSTAMP:20260420T035314
CREATED:20180110T172519Z
LAST-MODIFIED:20180110T172519Z
UID:3415-1519549200-1519549200@corridasderuars.com.br
SUMMARY:Circuito de Corridas dos Advogados RS – 2ª Etapa – Região Central
DESCRIPTION:
URL:https://corridasderuars.com.br/evento/circuito-de-corridas-dos-advogados-rs-2a-etapa-regiao-central/
CATEGORIES:10km,5km
ATTACH;FMTTYPE=image/jpeg:https://corridasderuars.com.br/wp-content/uploads/2017/07/bg21-1.jpg
END:VEVENT
END:VCALENDAR