BEGIN:VCALENDAR
VERSION:2.0
PRODID:-//Corridas de Rua - RS - ECPv4.5.7//NONSGML v1.0//EN
CALSCALE:GREGORIAN
METHOD:PUBLISH
X-WR-CALNAME:Corridas de Rua - RS
X-ORIGINAL-URL:https://corridasderuars.com.br
X-WR-CALDESC:Events for Corridas de Rua - RS
BEGIN:VEVENT
DTSTART;TZID=UTC+0:20210423T000000
DTEND;TZID=UTC+0:20210425T000000
DTSTAMP:20260421T113246
CREATED:20210409T152811Z
LAST-MODIFIED:20210409T152811Z
UID:7091-1619136000-1619308800@corridasderuars.com.br
SUMMARY:Circuito de Corridas do Litoral Norte
DESCRIPTION:
URL:https://corridasderuars.com.br/evento/circuito-de-corridas-do-litoral-norte/
CATEGORIES:3km
ATTACH;FMTTYPE=image/jpeg:https://corridasderuars.com.br/wp-content/uploads/2018/10/bg87.jpg
END:VEVENT
END:VCALENDAR