BEGIN:VCALENDAR
VERSION:2.0
PRODID:-//Corridas de Rua - RS - ECPv4.5.7//NONSGML v1.0//EN
CALSCALE:GREGORIAN
METHOD:PUBLISH
X-WR-CALNAME:Corridas de Rua - RS
X-ORIGINAL-URL:https://corridasderuars.com.br
X-WR-CALDESC:Events for Corridas de Rua - RS
BEGIN:VEVENT
DTSTART;TZID=UTC+0:20210820T000000
DTEND;TZID=UTC+0:20210822T000000
DTSTAMP:20260421T084105
CREATED:20210813T131059Z
LAST-MODIFIED:20210813T131059Z
UID:7296-1629417600-1629590400@corridasderuars.com.br
SUMMARY:Circuito de Corridas do Litoral Norte - Agosto 15K
DESCRIPTION:
URL:https://corridasderuars.com.br/evento/circuito-de-corridas-do-litoral-norte-agosto-15k/
CATEGORIES:17km
ATTACH;FMTTYPE=image/jpeg:https://corridasderuars.com.br/wp-content/uploads/2017/12/bg42.jpg
END:VEVENT
END:VCALENDAR