BEGIN:VCALENDAR
VERSION:2.0
PRODID:-//Corridas de Rua - RS - ECPv4.5.7//NONSGML v1.0//EN
CALSCALE:GREGORIAN
METHOD:PUBLISH
X-WR-CALNAME:Corridas de Rua - RS
X-ORIGINAL-URL:https://corridasderuars.com.br
X-WR-CALDESC:Events for Corridas de Rua - RS
BEGIN:VEVENT
DTSTART;TZID=UTC+0:20210919T083000
DTEND;TZID=UTC+0:20210919T083000
DTSTAMP:20260421T100712
CREATED:20210903T172151Z
LAST-MODIFIED:20210903T172151Z
UID:7330-1632040200-1632040200@corridasderuars.com.br
SUMMARY:Circuito de Corridas do Litoral Norte 21km
DESCRIPTION:
URL:https://corridasderuars.com.br/evento/circuito-de-corridas-do-litoral-norte-21km/
CATEGORIES:21km
ATTACH;FMTTYPE=image/jpeg:https://corridasderuars.com.br/wp-content/uploads/2017/12/bg42.jpg
END:VEVENT
END:VCALENDAR