BEGIN:VCALENDAR
VERSION:2.0
PRODID:-//Corridas de Rua - RS - ECPv4.5.7//NONSGML v1.0//EN
CALSCALE:GREGORIAN
METHOD:PUBLISH
X-WR-CALNAME:Corridas de Rua - RS
X-ORIGINAL-URL:https://corridasderuars.com.br
X-WR-CALDESC:Events for Corridas de Rua - RS
BEGIN:VEVENT
DTSTART;TZID=UTC+0:20180826T090000
DTEND;TZID=UTC+0:20180826T090000
DTSTAMP:20260419T214654
CREATED:20180410T164818Z
LAST-MODIFIED:20180410T164901Z
UID:3756-1535274000-1535274000@corridasderuars.com.br
SUMMARY:Circuito de Corridas Caixa - Etapa Porto Alegre
DESCRIPTION:
URL:https://corridasderuars.com.br/evento/circuito-de-corridas-caixa-etapa-porto-alegre/
CATEGORIES:10km,5km
ATTACH;FMTTYPE=image/jpeg:https://corridasderuars.com.br/wp-content/uploads/2017/12/bg53.jpg
END:VEVENT
END:VCALENDAR