BEGIN:VCALENDAR
VERSION:2.0
PRODID:-//Corridas de Rua - RS - ECPv4.5.7//NONSGML v1.0//EN
CALSCALE:GREGORIAN
METHOD:PUBLISH
X-WR-CALNAME:Corridas de Rua - RS
X-ORIGINAL-URL:https://corridasderuars.com.br
X-WR-CALDESC:Events for Corridas de Rua - RS
BEGIN:VEVENT
DTSTART;TZID=UTC+0:20171119T090000
DTEND;TZID=UTC+0:20171119T090000
DTSTAMP:20260420T071114
CREATED:20170903T162527Z
LAST-MODIFIED:20171114T175329Z
UID:2763-1511082000-1511082000@corridasderuars.com.br
SUMMARY:Circuito de Corrida Castelo Forte
DESCRIPTION:
URL:https://corridasderuars.com.br/evento/circuito-de-corrida-castelo-forte/
CATEGORIES:3.6km,7.2km
ATTACH;FMTTYPE=image/jpeg:https://corridasderuars.com.br/wp-content/uploads/2017/07/bgCrianca.jpg
END:VEVENT
END:VCALENDAR