BEGIN:VCALENDAR
VERSION:2.0
PRODID:-//Corridas de Rua - RS - ECPv4.5.7//NONSGML v1.0//EN
CALSCALE:GREGORIAN
METHOD:PUBLISH
X-WR-CALNAME:Corridas de Rua - RS
X-ORIGINAL-URL:https://corridasderuars.com.br
X-WR-CALDESC:Events for Corridas de Rua - RS
BEGIN:VEVENT
DTSTART;TZID=UTC+0:20180217T190000
DTEND;TZID=UTC+0:20180217T190000
DTSTAMP:20260420T040758
CREATED:20171205T191502Z
LAST-MODIFIED:20171205T191502Z
UID:3288-1518894000-1518894000@corridasderuars.com.br
SUMMARY:Circuito de Caminhada e Corrida Castelo Forte
DESCRIPTION:
URL:https://corridasderuars.com.br/evento/circuito-de-caminhada-e-corrida-castelo-forte/
CATEGORIES:3.6km,7.2km
ATTACH;FMTTYPE=image/jpeg:https://corridasderuars.com.br/wp-content/uploads/2017/12/bg55.jpg
END:VEVENT
END:VCALENDAR