BEGIN:VCALENDAR
VERSION:2.0
PRODID:-//Corridas de Rua - RS - ECPv4.5.7//NONSGML v1.0//EN
CALSCALE:GREGORIAN
METHOD:PUBLISH
X-WR-CALNAME:Corridas de Rua - RS
X-ORIGINAL-URL:https://corridasderuars.com.br
X-WR-CALDESC:Events for Corridas de Rua - RS
BEGIN:VEVENT
DTSTART;TZID=UTC+0:20191020T080000
DTEND;TZID=UTC+0:20191020T080000
DTSTAMP:20260420T084008
CREATED:20191010T133243Z
LAST-MODIFIED:20191010T133243Z
UID:5808-1571558400-1571558400@corridasderuars.com.br
SUMMARY:Circuito Correr e Caminhar para Viver Bem
DESCRIPTION:
URL:https://corridasderuars.com.br/evento/circuito-correr-e-caminhar-para-viver-bem/
CATEGORIES:10km,5km
ATTACH;FMTTYPE=image/jpeg:https://corridasderuars.com.br/wp-content/uploads/2019/08/bg205.jpg
END:VEVENT
END:VCALENDAR