BEGIN:VCALENDAR
VERSION:2.0
PRODID:-//Corridas de Rua - RS - ECPv4.5.7//NONSGML v1.0//EN
CALSCALE:GREGORIAN
METHOD:PUBLISH
X-WR-CALNAME:Corridas de Rua - RS
X-ORIGINAL-URL:https://corridasderuars.com.br
X-WR-CALDESC:Events for Corridas de Rua - RS
BEGIN:VEVENT
DTSTART;TZID=UTC+0:20190427T193000
DTEND;TZID=UTC+0:20190427T193000
DTSTAMP:20260420T101127
CREATED:20181212T162727Z
LAST-MODIFIED:20181212T162727Z
UID:4618-1556393400-1556393400@corridasderuars.com.br
SUMMARY:Circuito Chega de Trabalho Infantil - 3ª Etapa
DESCRIPTION:
URL:https://corridasderuars.com.br/evento/circuito-chega-de-trabalho-infantil-3a-etapa/
CATEGORIES:10km,21km,5km
ATTACH;FMTTYPE=image/jpeg:https://corridasderuars.com.br/wp-content/uploads/2018/10/bg86.jpg
END:VEVENT
END:VCALENDAR