BEGIN:VCALENDAR
VERSION:2.0
PRODID:-//Corridas de Rua - RS - ECPv4.5.7//NONSGML v1.0//EN
CALSCALE:GREGORIAN
METHOD:PUBLISH
X-WR-CALNAME:Corridas de Rua - RS
X-ORIGINAL-URL:https://corridasderuars.com.br
X-WR-CALDESC:Events for Corridas de Rua - RS
BEGIN:VEVENT
DTSTART;TZID=UTC+0:20190224T080000
DTEND;TZID=UTC+0:20190224T080000
DTSTAMP:20260420T112659
CREATED:20181212T162511Z
LAST-MODIFIED:20181217T125433Z
UID:4614-1550995200-1550995200@corridasderuars.com.br
SUMMARY:Circuito Chega de Trabalho Infantil - 1ª Etapa
DESCRIPTION:
URL:https://corridasderuars.com.br/evento/circuito-chega-de-trabalho-infantil-1a-etapa/
CATEGORIES:10km,15km,5km
ATTACH;FMTTYPE=image/jpeg:https://corridasderuars.com.br/wp-content/uploads/2017/12/bg61.jpg
END:VEVENT
END:VCALENDAR