BEGIN:VCALENDAR
VERSION:2.0
PRODID:-//Corridas de Rua - RS - ECPv4.5.7//NONSGML v1.0//EN
CALSCALE:GREGORIAN
METHOD:PUBLISH
X-WR-CALNAME:Corridas de Rua - RS
X-ORIGINAL-URL:https://corridasderuars.com.br
X-WR-CALDESC:Events for Corridas de Rua - RS
BEGIN:VEVENT
DTSTART;TZID=UTC+0:20171220T200000
DTEND;TZID=UTC+0:20171220T200000
DTSTAMP:20260420T060212
CREATED:20171214T115823Z
LAST-MODIFIED:20171214T115823Z
UID:3314-1513800000-1513800000@corridasderuars.com.br
SUMMARY:Circuito Cauzzo Running - Etapa Noturna
DESCRIPTION:
URL:https://corridasderuars.com.br/evento/circuito-cauzzo-running-etapa-noturna/
CATEGORIES:3km,5km
ATTACH;FMTTYPE=image/jpeg:https://corridasderuars.com.br/wp-content/uploads/2017/12/bg59.jpg
END:VEVENT
END:VCALENDAR