BEGIN:VCALENDAR
VERSION:2.0
PRODID:-//Corridas de Rua - RS - ECPv4.5.7//NONSGML v1.0//EN
CALSCALE:GREGORIAN
METHOD:PUBLISH
X-WR-CALNAME:Corridas de Rua - RS
X-ORIGINAL-URL:https://corridasderuars.com.br
X-WR-CALDESC:Events for Corridas de Rua - RS
BEGIN:VEVENT
DTSTART;TZID=UTC+0:20171119T083000
DTEND;TZID=UTC+0:20171119T083000
DTSTAMP:20260420T054159
CREATED:20170713T202104Z
LAST-MODIFIED:20171101T174256Z
UID:2529-1511080200-1511080200@corridasderuars.com.br
SUMMARY:Cauzzo Running – 2ª Edição
DESCRIPTION:
URL:https://corridasderuars.com.br/evento/circuito-cauzzo-running-2017-9a-etapa/
CATEGORIES:3km,7km
ATTACH;FMTTYPE=image/jpeg:https://corridasderuars.com.br/wp-content/uploads/2017/07/bg15-1.jpg
END:VEVENT
END:VCALENDAR