BEGIN:VCALENDAR
VERSION:2.0
PRODID:-//Corridas de Rua - RS - ECPv4.5.7//NONSGML v1.0//EN
CALSCALE:GREGORIAN
METHOD:PUBLISH
X-WR-CALNAME:Corridas de Rua - RS
X-ORIGINAL-URL:https://corridasderuars.com.br
X-WR-CALDESC:Events for Corridas de Rua - RS
BEGIN:VEVENT
DTSTART;TZID=UTC+0:20171015T000000
DTEND;TZID=UTC+0:20171015T000000
DTSTAMP:20260420T051656
CREATED:20170713T201831Z
LAST-MODIFIED:20170713T201831Z
UID:2524-1508025600-1508025600@corridasderuars.com.br
SUMMARY:CIRCUITO CAUZZO RUNNING 2017 – 7ª ETAPA
DESCRIPTION:
URL:https://corridasderuars.com.br/evento/circuito-cauzzo-running-2017-7a-etapa/
ATTACH;FMTTYPE=image/jpeg:https://corridasderuars.com.br/wp-content/uploads/2017/07/bg14-1.jpg
END:VEVENT
END:VCALENDAR