BEGIN:VCALENDAR
VERSION:2.0
PRODID:-//Corridas de Rua - RS - ECPv4.5.7//NONSGML v1.0//EN
CALSCALE:GREGORIAN
METHOD:PUBLISH
X-WR-CALNAME:Corridas de Rua - RS
X-ORIGINAL-URL:https://corridasderuars.com.br
X-WR-CALDESC:Events for Corridas de Rua - RS
BEGIN:VEVENT
DTSTART;TZID=UTC+0:20170903T093000
DTEND;TZID=UTC+0:20170903T093000
DTSTAMP:20260420T054159
CREATED:20170713T201103Z
LAST-MODIFIED:20170826T144242Z
UID:2513-1504431000-1504431000@corridasderuars.com.br
SUMMARY:CIRCUITO CAUZZO RUNNING – 3ª ETAPA
DESCRIPTION:
URL:https://corridasderuars.com.br/evento/circuito-cauzzo-running-2017-3a-etapa/
CATEGORIES:5km
ATTACH;FMTTYPE=image/jpeg:https://corridasderuars.com.br/wp-content/uploads/2017/07/bg20-1.jpg
END:VEVENT
END:VCALENDAR