BEGIN:VCALENDAR
VERSION:2.0
PRODID:-//Corridas de Rua - RS - ECPv4.5.7//NONSGML v1.0//EN
CALSCALE:GREGORIAN
METHOD:PUBLISH
X-WR-CALNAME:Corridas de Rua - RS
X-ORIGINAL-URL:https://corridasderuars.com.br
X-WR-CALDESC:Events for Corridas de Rua - RS
BEGIN:VEVENT
DTSTART;TZID=UTC+0:20220122T180000
DTEND;TZID=UTC+0:20220122T180000
DTSTAMP:20260421T085220
CREATED:20211110T121628Z
LAST-MODIFIED:20211202T151531Z
UID:7521-1642874400-1642874400@corridasderuars.com.br
SUMMARY:Circuito 7K - Etapa Teutônia
DESCRIPTION:
URL:https://corridasderuars.com.br/evento/circuito-7k-etapa-teutonia/
CATEGORIES:7km
ATTACH;FMTTYPE=image/jpeg:https://corridasderuars.com.br/wp-content/uploads/2018/10/bg87.jpg
END:VEVENT
END:VCALENDAR