BEGIN:VCALENDAR
VERSION:2.0
PRODID:-//Corridas de Rua - RS - ECPv4.5.7//NONSGML v1.0//EN
CALSCALE:GREGORIAN
METHOD:PUBLISH
X-WR-CALNAME:Corridas de Rua - RS
X-ORIGINAL-URL:https://corridasderuars.com.br
X-WR-CALDESC:Events for Corridas de Rua - RS
BEGIN:VEVENT
DTSTART;TZID=UTC+0:20211024T073000
DTEND;TZID=UTC+0:20211024T073000
DTSTAMP:20260421T083708
CREATED:20211001T162534Z
LAST-MODIFIED:20211001T162534Z
UID:7407-1635060600-1635060600@corridasderuars.com.br
SUMMARY:Caminhada Kronenthal
DESCRIPTION:
URL:https://corridasderuars.com.br/evento/caminhada-kronenthal/
CATEGORIES:19km
ATTACH;FMTTYPE=image/jpeg:https://corridasderuars.com.br/wp-content/uploads/2018/10/bg88.jpg
END:VEVENT
END:VCALENDAR