BEGIN:VCALENDAR
VERSION:2.0
PRODID:-//Corridas de Rua - RS - ECPv4.5.7//NONSGML v1.0//EN
CALSCALE:GREGORIAN
METHOD:PUBLISH
X-WR-CALNAME:Corridas de Rua - RS
X-ORIGINAL-URL:https://corridasderuars.com.br
X-WR-CALDESC:Events for Corridas de Rua - RS
BEGIN:VEVENT
DTSTART;TZID=UTC+0:20181110T200000
DTEND;TZID=UTC+0:20181110T200000
DTSTAMP:20260419T213805
CREATED:20180914T185224Z
LAST-MODIFIED:20180914T185224Z
UID:4251-1541880000-1541880000@corridasderuars.com.br
SUMMARY:Beer Night Run
DESCRIPTION:
URL:https://corridasderuars.com.br/evento/beer-night-run-2/
CATEGORIES:4km
ATTACH;FMTTYPE=image/jpeg:https://corridasderuars.com.br/wp-content/uploads/2017/12/bg56.jpg
END:VEVENT
END:VCALENDAR