BEGIN:VCALENDAR
VERSION:2.0
PRODID:-//Corridas de Rua - RS - ECPv4.5.7//NONSGML v1.0//EN
CALSCALE:GREGORIAN
METHOD:PUBLISH
X-WR-CALNAME:Corridas de Rua - RS
X-ORIGINAL-URL:https://corridasderuars.com.br
X-WR-CALDESC:Events for Corridas de Rua - RS
BEGIN:VEVENT
DTSTART;TZID=UTC+0:20181110T103000
DTEND;TZID=UTC+0:20181110T103000
DTSTAMP:20260419T200448
CREATED:20171110T173326Z
LAST-MODIFIED:20180906T134344Z
UID:3144-1541845800-1541845800@corridasderuars.com.br
SUMMARY:Audax Trail Tour
DESCRIPTION:
URL:https://corridasderuars.com.br/evento/audax-trail-tour-5/
CATEGORIES:20km,24km,31km,7km
ATTACH;FMTTYPE=image/jpeg:https://corridasderuars.com.br/wp-content/uploads/2017/07/bgCountry1.jpg
END:VEVENT
END:VCALENDAR