BEGIN:VCALENDAR
VERSION:2.0
PRODID:-//Corridas de Rua - RS - ECPv4.5.7//NONSGML v1.0//EN
CALSCALE:GREGORIAN
METHOD:PUBLISH
X-WR-CALNAME:Corridas de Rua - RS
X-ORIGINAL-URL:https://corridasderuars.com.br
X-WR-CALDESC:Events for Corridas de Rua - RS
BEGIN:VEVENT
DTSTART;TZID=UTC+0:20171112T080000
DTEND;TZID=UTC+0:20171112T080000
DTSTAMP:20260420T083831
CREATED:20170901T170136Z
LAST-MODIFIED:20171114T175633Z
UID:2753-1510473600-1510473600@corridasderuars.com.br
SUMMARY:Água Viva Trail
DESCRIPTION:
URL:https://corridasderuars.com.br/evento/agua-viva-trail/
CATEGORIES:7km
ATTACH;FMTTYPE=image/jpeg:https://corridasderuars.com.br/wp-content/uploads/2017/07/bg2-1.jpg
END:VEVENT
END:VCALENDAR