BEGIN:VCALENDAR
VERSION:2.0
PRODID:-//Corridas de Rua - RS - ECPv4.5.7//NONSGML v1.0//EN
CALSCALE:GREGORIAN
METHOD:PUBLISH
X-WR-CALNAME:Corridas de Rua - RS
X-ORIGINAL-URL:https://corridasderuars.com.br
X-WR-CALDESC:Events for Corridas de Rua - RS
BEGIN:VEVENT
DTSTART;TZID=UTC+0:20191103T093000
DTEND;TZID=UTC+0:20191103T093000
DTSTAMP:20260421T084008
CREATED:20190808T152954Z
LAST-MODIFIED:20190808T152954Z
UID:5499-1572773400-1572773400@corridasderuars.com.br
SUMMARY:Adventure Race Corrida de Obstáculos
DESCRIPTION:
URL:https://corridasderuars.com.br/evento/adventure-race-corrida-de-obstaculos-2/
CATEGORIES:16km,8km
ATTACH;FMTTYPE=image/jpeg:https://corridasderuars.com.br/wp-content/uploads/2018/07/bg1234.jpg
END:VEVENT
END:VCALENDAR