BEGIN:VCALENDAR
VERSION:2.0
PRODID:-//Corridas de Rua - RS - ECPv4.5.7//NONSGML v1.0//EN
CALSCALE:GREGORIAN
METHOD:PUBLISH
X-WR-CALNAME:Corridas de Rua - RS
X-ORIGINAL-URL:https://corridasderuars.com.br
X-WR-CALDESC:Events for Corridas de Rua - RS
BEGIN:VEVENT
DTSTART;TZID=UTC+0:20211002T130000
DTEND;TZID=UTC+0:20211002T130000
DTSTAMP:20260421T083933
CREATED:20210628T132440Z
LAST-MODIFIED:20210628T132440Z
UID:7199-1633179600-1633179600@corridasderuars.com.br
SUMMARY:ADV Race - O Batismo
DESCRIPTION:
URL:https://corridasderuars.com.br/evento/adv-race-o-batismo/
CATEGORIES:4km,8km
ATTACH;FMTTYPE=image/jpeg:https://corridasderuars.com.br/wp-content/uploads/2018/07/bg1234.jpg
END:VEVENT
END:VCALENDAR