BEGIN:VCALENDAR
VERSION:2.0
PRODID:-//Corridas de Rua - RS - ECPv4.5.7//NONSGML v1.0//EN
CALSCALE:GREGORIAN
METHOD:PUBLISH
X-WR-CALNAME:Corridas de Rua - RS
X-ORIGINAL-URL:https://corridasderuars.com.br
X-WR-CALDESC:Events for Corridas de Rua - RS
BEGIN:VEVENT
DTSTART;TZID=UTC+0:20170812T153000
DTEND;TZID=UTC+0:20170812T153000
DTSTAMP:20260419T231407
CREATED:20170714T180148Z
LAST-MODIFIED:20170714T180344Z
UID:2538-1502551800-1502551800@corridasderuars.com.br
SUMMARY:9ª Rústica Pedro Speroni
DESCRIPTION:
URL:https://corridasderuars.com.br/evento/9a-rustica-pedro-speroni-2/
CATEGORIES:2km,5km
ATTACH;FMTTYPE=image/jpeg:https://corridasderuars.com.br/wp-content/uploads/2017/07/bg7-1.jpg
END:VEVENT
END:VCALENDAR