BEGIN:VCALENDAR
VERSION:2.0
PRODID:-//Corridas de Rua - RS - ECPv4.5.7//NONSGML v1.0//EN
CALSCALE:GREGORIAN
METHOD:PUBLISH
X-WR-CALNAME:Corridas de Rua - RS
X-ORIGINAL-URL:https://corridasderuars.com.br
X-WR-CALDESC:Events for Corridas de Rua - RS
BEGIN:VEVENT
DTSTART;TZID=UTC+0:20180415T083000
DTEND;TZID=UTC+0:20180415T083000
DTSTAMP:20260420T054048
CREATED:20171221T163834Z
LAST-MODIFIED:20171221T163834Z
UID:3332-1523781000-1523781000@corridasderuars.com.br
SUMMARY:9ª Corrida de São Jorge
DESCRIPTION:
URL:https://corridasderuars.com.br/evento/9a-corrida-de-sao-jorge/
CATEGORIES:10km,5km
ATTACH;FMTTYPE=image/jpeg:https://corridasderuars.com.br/wp-content/uploads/2017/07/bg23-1.jpg
END:VEVENT
END:VCALENDAR