BEGIN:VCALENDAR
VERSION:2.0
PRODID:-//Corridas de Rua - RS - ECPv4.5.7//NONSGML v1.0//EN
CALSCALE:GREGORIAN
METHOD:PUBLISH
X-WR-CALNAME:Corridas de Rua - RS
X-ORIGINAL-URL:https://corridasderuars.com.br
X-WR-CALDESC:Events for Corridas de Rua - RS
BEGIN:VEVENT
DTSTART;TZID=UTC+0:20180325T083000
DTEND;TZID=UTC+0:20180325T083000
DTSTAMP:20260420T023014
CREATED:20180206T122537Z
LAST-MODIFIED:20180206T122537Z
UID:3564-1521966600-1521966600@corridasderuars.com.br
SUMMARY:8º Circuito HO de Corrida e Caminhada
DESCRIPTION:
URL:https://corridasderuars.com.br/evento/8o-circuito-ho-de-corrida-e-caminhada/
CATEGORIES:16km,4km
ATTACH;FMTTYPE=image/jpeg:https://corridasderuars.com.br/wp-content/uploads/2017/07/bg25-1.jpg
END:VEVENT
END:VCALENDAR