BEGIN:VCALENDAR
VERSION:2.0
PRODID:-//Corridas de Rua - RS - ECPv4.5.7//NONSGML v1.0//EN
CALSCALE:GREGORIAN
METHOD:PUBLISH
X-WR-CALNAME:Corridas de Rua - RS
X-ORIGINAL-URL:https://corridasderuars.com.br
X-WR-CALDESC:Events for Corridas de Rua - RS
BEGIN:VEVENT
DTSTART;TZID=UTC+0:20211219T090000
DTEND;TZID=UTC+0:20211219T090000
DTSTAMP:20260419T151809
CREATED:20211104T130459Z
LAST-MODIFIED:20211104T130459Z
UID:7508-1639904400-1639904400@corridasderuars.com.br
SUMMARY:8ª Rústica dos Presépios
DESCRIPTION:
URL:https://corridasderuars.com.br/evento/8a-rustica-dos-presepios/
CATEGORIES:3km,5.5km
ATTACH;FMTTYPE=image/jpeg:https://corridasderuars.com.br/wp-content/uploads/2021/10/6.jpg
END:VEVENT
END:VCALENDAR