BEGIN:VCALENDAR
VERSION:2.0
PRODID:-//Corridas de Rua - RS - ECPv4.5.7//NONSGML v1.0//EN
CALSCALE:GREGORIAN
METHOD:PUBLISH
X-WR-CALNAME:Corridas de Rua - RS
X-ORIGINAL-URL:https://corridasderuars.com.br
X-WR-CALDESC:Events for Corridas de Rua - RS
BEGIN:VEVENT
DTSTART;TZID=UTC+0:20190310T090000
DTEND;TZID=UTC+0:20190310T090000
DTSTAMP:20260419T213957
CREATED:20190130T170522Z
LAST-MODIFIED:20190130T170522Z
UID:4789-1552208400-1552208400@corridasderuars.com.br
SUMMARY:8ª Rústica de Verão Sesc/Nova Petrópolis
DESCRIPTION:
URL:https://corridasderuars.com.br/evento/8a-rustica-de-verao-sescnova-petropolis/
CATEGORIES:5km
ATTACH;FMTTYPE=image/jpeg:https://corridasderuars.com.br/wp-content/uploads/2017/07/bg37.jpg
END:VEVENT
END:VCALENDAR