BEGIN:VCALENDAR
VERSION:2.0
PRODID:-//Corridas de Rua - RS - ECPv4.5.7//NONSGML v1.0//EN
CALSCALE:GREGORIAN
METHOD:PUBLISH
X-WR-CALNAME:Corridas de Rua - RS
X-ORIGINAL-URL:https://corridasderuars.com.br
X-WR-CALDESC:Events for Corridas de Rua - RS
BEGIN:VEVENT
DTSTART;TZID=UTC+0:20190908T090000
DTEND;TZID=UTC+0:20190908T090000
DTSTAMP:20260421T084103
CREATED:20190628T142149Z
LAST-MODIFIED:20190628T142149Z
UID:5359-1567933200-1567933200@corridasderuars.com.br
SUMMARY:8ª Cross Country da Piá Esportes
DESCRIPTION:
URL:https://corridasderuars.com.br/evento/8a-cross-country-da-pia-esportes/
CATEGORIES:2.5km,5km
ATTACH;FMTTYPE=image/jpeg:https://corridasderuars.com.br/wp-content/uploads/2017/12/bg49.jpg
END:VEVENT
END:VCALENDAR