BEGIN:VCALENDAR
VERSION:2.0
PRODID:-//Corridas de Rua - RS - ECPv4.5.7//NONSGML v1.0//EN
CALSCALE:GREGORIAN
METHOD:PUBLISH
X-WR-CALNAME:Corridas de Rua - RS
X-ORIGINAL-URL:https://corridasderuars.com.br
X-WR-CALDESC:Events for Corridas de Rua - RS
BEGIN:VEVENT
DTSTART;TZID=UTC+0:20180527T090000
DTEND;TZID=UTC+0:20180527T090000
DTSTAMP:20260419T231821
CREATED:20180516T125348Z
LAST-MODIFIED:20180516T125348Z
UID:3882-1527411600-1527411600@corridasderuars.com.br
SUMMARY:7º Circuito Regional de Corrida de Rua - 4ª Etapa
DESCRIPTION:
URL:https://corridasderuars.com.br/evento/7o-circuito-regional-de-corrida-de-rua-4a-etapa/
CATEGORIES:6km
ATTACH;FMTTYPE=image/jpeg:https://corridasderuars.com.br/wp-content/uploads/2017/12/bg55.jpg
END:VEVENT
END:VCALENDAR