BEGIN:VCALENDAR
VERSION:2.0
PRODID:-//Corridas de Rua - RS - ECPv4.5.7//NONSGML v1.0//EN
CALSCALE:GREGORIAN
METHOD:PUBLISH
X-WR-CALNAME:Corridas de Rua - RS
X-ORIGINAL-URL:https://corridasderuars.com.br
X-WR-CALDESC:Events for Corridas de Rua - RS
BEGIN:VEVENT
DTSTART;TZID=UTC+0:20210508T080000
DTEND;TZID=UTC+0:20210509T170000
DTSTAMP:20260421T102212
CREATED:20210421T165745Z
LAST-MODIFIED:20210421T165745Z
UID:7105-1620460800-1620579600@corridasderuars.com.br
SUMMARY:7k Parque Marinha
DESCRIPTION:
URL:https://corridasderuars.com.br/evento/7k-parque-marinha-2/
CATEGORIES:7km
ATTACH;FMTTYPE=image/jpeg:https://corridasderuars.com.br/wp-content/uploads/2019/08/bg211.jpg
END:VEVENT
END:VCALENDAR