BEGIN:VCALENDAR
VERSION:2.0
PRODID:-//Corridas de Rua - RS - ECPv4.5.7//NONSGML v1.0//EN
CALSCALE:GREGORIAN
METHOD:PUBLISH
X-WR-CALNAME:Corridas de Rua - RS
X-ORIGINAL-URL:https://corridasderuars.com.br
X-WR-CALDESC:Events for Corridas de Rua - RS
BEGIN:VEVENT
DTSTART;TZID=UTC+0:20190929T090000
DTEND;TZID=UTC+0:20190929T090000
DTSTAMP:20260421T102120
CREATED:20190909T132633Z
LAST-MODIFIED:20190909T132633Z
UID:5657-1569747600-1569747600@corridasderuars.com.br
SUMMARY:7ª Rústica Tupandi
DESCRIPTION:
URL:https://corridasderuars.com.br/evento/7a-rustica-tupandi/
CATEGORIES:7km
ATTACH;FMTTYPE=image/jpeg:https://corridasderuars.com.br/wp-content/uploads/2019/08/bg205.jpg
END:VEVENT
END:VCALENDAR