BEGIN:VCALENDAR
VERSION:2.0
PRODID:-//Corridas de Rua - RS - ECPv4.5.7//NONSGML v1.0//EN
CALSCALE:GREGORIAN
METHOD:PUBLISH
X-WR-CALNAME:Corridas de Rua - RS
X-ORIGINAL-URL:https://corridasderuars.com.br
X-WR-CALDESC:Events for Corridas de Rua - RS
BEGIN:VEVENT
DTSTART;TZID=UTC+0:20180907T090000
DTEND;TZID=UTC+0:20180907T090000
DTSTAMP:20260419T200654
CREATED:20180809T162956Z
LAST-MODIFIED:20180809T162956Z
UID:4123-1536310800-1536310800@corridasderuars.com.br
SUMMARY:7ª Rústica da Pátria de Encantado
DESCRIPTION:
URL:https://corridasderuars.com.br/evento/7a-rustica-da-patria-de-encantado/
CATEGORIES:6km
ATTACH;FMTTYPE=image/jpeg:https://corridasderuars.com.br/wp-content/uploads/2017/07/bg20-1.jpg
END:VEVENT
END:VCALENDAR