BEGIN:VCALENDAR
VERSION:2.0
PRODID:-//Corridas de Rua - RS - ECPv4.5.7//NONSGML v1.0//EN
CALSCALE:GREGORIAN
METHOD:PUBLISH
X-WR-CALNAME:Corridas de Rua - RS
X-ORIGINAL-URL:https://corridasderuars.com.br
X-WR-CALDESC:Events for Corridas de Rua - RS
BEGIN:VEVENT
DTSTART;TZID=UTC+0:20180902T080000
DTEND;TZID=UTC+0:20180902T080000
DTSTAMP:20260419T231510
CREATED:20180523T142131Z
LAST-MODIFIED:20180523T142131Z
UID:3904-1535875200-1535875200@corridasderuars.com.br
SUMMARY:7ª Rústica Cidade de Osório
DESCRIPTION:
URL:https://corridasderuars.com.br/evento/7a-rustica-cidade-de-osorio/
CATEGORIES:10km,3km,5km
ATTACH;FMTTYPE=image/jpeg:https://corridasderuars.com.br/wp-content/uploads/2017/12/bg57.jpg
END:VEVENT
END:VCALENDAR