BEGIN:VCALENDAR
VERSION:2.0
PRODID:-//Corridas de Rua - RS - ECPv4.5.7//NONSGML v1.0//EN
CALSCALE:GREGORIAN
METHOD:PUBLISH
X-WR-CALNAME:Corridas de Rua - RS
X-ORIGINAL-URL:https://corridasderuars.com.br
X-WR-CALDESC:Events for Corridas de Rua - RS
BEGIN:VEVENT
DTSTART;TZID=UTC+0:20190407T090000
DTEND;TZID=UTC+0:20190407T090000
DTSTAMP:20260420T015805
CREATED:20190326T165336Z
LAST-MODIFIED:20190326T165336Z
UID:4969-1554627600-1554627600@corridasderuars.com.br
SUMMARY:7ª Corrida de Santo Antônio
DESCRIPTION:
URL:https://corridasderuars.com.br/evento/7a-corrida-de-santo-antonio/
CATEGORIES:3km,8km
ATTACH;FMTTYPE=image/jpeg:https://corridasderuars.com.br/wp-content/uploads/2018/10/bg80.jpg
END:VEVENT
END:VCALENDAR