BEGIN:VCALENDAR
VERSION:2.0
PRODID:-//Corridas de Rua - RS - ECPv4.5.7//NONSGML v1.0//EN
CALSCALE:GREGORIAN
METHOD:PUBLISH
X-WR-CALNAME:Corridas de Rua - RS
X-ORIGINAL-URL:https://corridasderuars.com.br
X-WR-CALDESC:Events for Corridas de Rua - RS
BEGIN:VEVENT
DTSTART;TZID=UTC+0:20191215T080000
DTEND;TZID=UTC+0:20191215T080000
DTSTAMP:20260421T084009
CREATED:20191029T141125Z
LAST-MODIFIED:20191029T141125Z
UID:5914-1576396800-1576396800@corridasderuars.com.br
SUMMARY:7ª Corrida de Natal de Porto Alegre
DESCRIPTION:
URL:https://corridasderuars.com.br/evento/7a-corrida-de-natal-de-porto-alegre/
CATEGORIES:4km,8km
ATTACH;FMTTYPE=image/jpeg:https://corridasderuars.com.br/wp-content/uploads/2017/07/bg32.jpg
END:VEVENT
END:VCALENDAR