BEGIN:VCALENDAR
VERSION:2.0
PRODID:-//Corridas de Rua - RS - ECPv4.5.7//NONSGML v1.0//EN
CALSCALE:GREGORIAN
METHOD:PUBLISH
X-WR-CALNAME:Corridas de Rua - RS
X-ORIGINAL-URL:https://corridasderuars.com.br
X-WR-CALDESC:Events for Corridas de Rua - RS
BEGIN:VEVENT
DTSTART;TZID=UTC+0:20181021T090000
DTEND;TZID=UTC+0:20181021T090000
DTSTAMP:20260420T003809
CREATED:20180924T114706Z
LAST-MODIFIED:20180924T114706Z
UID:4277-1540112400-1540112400@corridasderuars.com.br
SUMMARY:7° Rústica e Caminhada Proanálise
DESCRIPTION:
URL:https://corridasderuars.com.br/evento/7-rustica-e-caminhada-proanalise/
CATEGORIES:10km,5km
ATTACH;FMTTYPE=image/jpeg:https://corridasderuars.com.br/wp-content/uploads/2017/07/bg28-1.jpg
END:VEVENT
END:VCALENDAR