BEGIN:VCALENDAR
VERSION:2.0
PRODID:-//Corridas de Rua - RS - ECPv4.5.7//NONSGML v1.0//EN
CALSCALE:GREGORIAN
METHOD:PUBLISH
X-WR-CALNAME:Corridas de Rua - RS
X-ORIGINAL-URL:https://corridasderuars.com.br
X-WR-CALDESC:Events for Corridas de Rua - RS
BEGIN:VEVENT
DTSTART;TZID=UTC+0:20170813T090000
DTEND;TZID=UTC+0:20170813T090000
DTSTAMP:20260420T035022
CREATED:20170710T175023Z
LAST-MODIFIED:20170710T175023Z
UID:2352-1502614800-1502614800@corridasderuars.com.br
SUMMARY:6ª Rústica Três Coroas
DESCRIPTION:
URL:https://corridasderuars.com.br/evento/6a-rustica-tres-coroas/
CATEGORIES:10km,3km,5km
ATTACH;FMTTYPE=image/jpeg:https://corridasderuars.com.br/wp-content/uploads/2017/07/bg22-1.jpg
END:VEVENT
END:VCALENDAR