BEGIN:VCALENDAR
VERSION:2.0
PRODID:-//Corridas de Rua - RS - ECPv4.5.7//NONSGML v1.0//EN
CALSCALE:GREGORIAN
METHOD:PUBLISH
X-WR-CALNAME:Corridas de Rua - RS
X-ORIGINAL-URL:https://corridasderuars.com.br
X-WR-CALDESC:Events for Corridas de Rua - RS
BEGIN:VEVENT
DTSTART;TZID=UTC+0:20241103T050000
DTEND;TZID=UTC+0:20241103T050000
DTSTAMP:20260425T154351
CREATED:20240126T190952Z
LAST-MODIFIED:20240126T190952Z
UID:10400-1730610000-1730610000@corridasderuars.com.br
SUMMARY:6ª Maratona de Santa Cruz do Sul
DESCRIPTION:
URL:https://corridasderuars.com.br/evento/6a-maratona-de-santa-cruz-do-sul/
CATEGORIES:21km,4.3km,42km,8.7km
ATTACH;FMTTYPE=image/jpeg:https://corridasderuars.com.br/wp-content/uploads/2017/07/bg3-1.jpg
END:VEVENT
END:VCALENDAR